BEGIN:VCALENDAR
VERSION:2.0
PRODID:-//Wetzel Estate Winery - ECPv6.15.20//NONSGML v1.0//EN
CALSCALE:GREGORIAN
METHOD:PUBLISH
X-WR-CALNAME:Wetzel Estate Winery
X-ORIGINAL-URL:https://wetzelestate.com
X-WR-CALDESC:Events for Wetzel Estate Winery
REFRESH-INTERVAL;VALUE=DURATION:PT1H
X-Robots-Tag:noindex
X-PUBLISHED-TTL:PT1H
BEGIN:VTIMEZONE
TZID:America/Los_Angeles
BEGIN:DAYLIGHT
TZOFFSETFROM:-0800
TZOFFSETTO:-0700
TZNAME:PDT
DTSTART:20220313T100000
END:DAYLIGHT
BEGIN:STANDARD
TZOFFSETFROM:-0700
TZOFFSETTO:-0800
TZNAME:PST
DTSTART:20221106T090000
END:STANDARD
BEGIN:DAYLIGHT
TZOFFSETFROM:-0800
TZOFFSETTO:-0700
TZNAME:PDT
DTSTART:20230312T100000
END:DAYLIGHT
BEGIN:STANDARD
TZOFFSETFROM:-0700
TZOFFSETTO:-0800
TZNAME:PST
DTSTART:20231105T090000
END:STANDARD
BEGIN:DAYLIGHT
TZOFFSETFROM:-0800
TZOFFSETTO:-0700
TZNAME:PDT
DTSTART:20240310T100000
END:DAYLIGHT
BEGIN:STANDARD
TZOFFSETFROM:-0700
TZOFFSETTO:-0800
TZNAME:PST
DTSTART:20241103T090000
END:STANDARD
END:VTIMEZONE
BEGIN:VEVENT
DTSTART;TZID=America/Los_Angeles:20230409T100000
DTEND;TZID=America/Los_Angeles:20230409T170000
DTSTAMP:20260422T041253
CREATED:20230404T032349Z
LAST-MODIFIED:20230404T034702Z
UID:3288-1681034400-1681059600@wetzelestate.com
SUMMARY:Mimosa Sunday
DESCRIPTION:Join us EVERY Sunday for mimosas!\nOnly $5 a mimosa.\nWe rotate flavors and have 3 flavors to choose from each Sunday!\nGrab a friend and come enjoy the views while sipping a yummy mimosa.\nWe also offer charcuterie plates daily. \n 
URL:https://wetzelestate.com/event/mimosa-sunday/
LOCATION:Chateau Bianca Winery\, 17485 Hwy 22\, Dallas\, OR\, 97338\, United States
ATTACH;FMTTYPE=image/jpeg:https://wetzelestate.com/wp-content/uploads/2023/04/mimosa.jpg
END:VEVENT
END:VCALENDAR