BEGIN:VCALENDAR
VERSION:2.0
PRODID:-//Wetzel Estate Winery - ECPv6.15.20//NONSGML v1.0//EN
CALSCALE:GREGORIAN
METHOD:PUBLISH
X-WR-CALNAME:Wetzel Estate Winery
X-ORIGINAL-URL:https://wetzelestate.com
X-WR-CALDESC:Events for Wetzel Estate Winery
REFRESH-INTERVAL;VALUE=DURATION:PT1H
X-Robots-Tag:noindex
X-PUBLISHED-TTL:PT1H
BEGIN:VTIMEZONE
TZID:America/Los_Angeles
BEGIN:DAYLIGHT
TZOFFSETFROM:-0800
TZOFFSETTO:-0700
TZNAME:PDT
DTSTART:20230312T100000
END:DAYLIGHT
BEGIN:STANDARD
TZOFFSETFROM:-0700
TZOFFSETTO:-0800
TZNAME:PST
DTSTART:20231105T090000
END:STANDARD
BEGIN:DAYLIGHT
TZOFFSETFROM:-0800
TZOFFSETTO:-0700
TZNAME:PDT
DTSTART:20240310T100000
END:DAYLIGHT
BEGIN:STANDARD
TZOFFSETFROM:-0700
TZOFFSETTO:-0800
TZNAME:PST
DTSTART:20241103T090000
END:STANDARD
BEGIN:DAYLIGHT
TZOFFSETFROM:-0800
TZOFFSETTO:-0700
TZNAME:PDT
DTSTART:20250309T100000
END:DAYLIGHT
BEGIN:STANDARD
TZOFFSETFROM:-0700
TZOFFSETTO:-0800
TZNAME:PST
DTSTART:20251102T090000
END:STANDARD
END:VTIMEZONE
BEGIN:VEVENT
DTSTART;TZID=America/Los_Angeles:20241109T120000
DTEND;TZID=America/Los_Angeles:20241109T140000
DTSTAMP:20260421T023126
CREATED:20241022T192137Z
LAST-MODIFIED:20241105T191255Z
UID:3904-1731153600-1731160800@wetzelestate.com
SUMMARY:Painter’s Choice door hanger at Wetzel Estate with Artistic Chaos
DESCRIPTION:Get your friends and family come join us for a fun afternoon of painting your very own door hanger at Wetzel Estates while sipping on a complimentary glass of fabulous tasting wine! Artistic Chaos by Debbie will guide you through creating a unique piece to add some flair to your front door. No experience necessary – just bring your creativity! See you there! \nCheck out full pictures of both door hangers on eventbrite.com  \nThere is charcuterie boards and lots of wine to purchase!
URL:https://wetzelestate.com/event/painters-choice-door-hanger-at-wetzel-estate-with-artistic-chaos/
ATTACH;FMTTYPE=image/jpeg:https://wetzelestate.com/wp-content/uploads/2024/10/snowman-deb-nov-9-24.jpeg
END:VEVENT
BEGIN:VEVENT
DTSTART;VALUE=DATE:20241129
DTEND;VALUE=DATE:20241201
DTSTAMP:20260421T023126
CREATED:20241008T230430Z
LAST-MODIFIED:20241008T230807Z
UID:3897-1732838400-1733011199@wetzelestate.com
SUMMARY:Holiday Market at Wetzel Estate- Thanksgiving Weekend
DESCRIPTION:We are hosting our annual Holiday Market on Thanksgiving weekend.\nFriday\, November 29th – 12p-5p.\nSaturday\, November 30th – 12p-5p. \nWe invite you to get some holiday shopping done while supporting local small businesses\, artisans\, crafters\, and creators. \nWe will also have complimentary warm Gluhwein to sip on while you shop! \nCheers! And Happy Holidays!
URL:https://wetzelestate.com/event/3897/
ATTACH;FMTTYPE=image/png:https://wetzelestate.com/wp-content/uploads/2024/10/Wetzel-Estate-Holiday-Market-2024.png
END:VEVENT
END:VCALENDAR