BEGIN:VCALENDAR
VERSION:2.0
PRODID:-//Wetzel Estate Winery - ECPv6.15.20//NONSGML v1.0//EN
CALSCALE:GREGORIAN
METHOD:PUBLISH
X-ORIGINAL-URL:https://wetzelestate.com
X-WR-CALDESC:Events for Wetzel Estate Winery
REFRESH-INTERVAL;VALUE=DURATION:PT1H
X-Robots-Tag:noindex
X-PUBLISHED-TTL:PT1H
BEGIN:VTIMEZONE
TZID:America/Los_Angeles
BEGIN:DAYLIGHT
TZOFFSETFROM:-0800
TZOFFSETTO:-0700
TZNAME:PDT
DTSTART:20230312T100000
END:DAYLIGHT
BEGIN:STANDARD
TZOFFSETFROM:-0700
TZOFFSETTO:-0800
TZNAME:PST
DTSTART:20231105T090000
END:STANDARD
BEGIN:DAYLIGHT
TZOFFSETFROM:-0800
TZOFFSETTO:-0700
TZNAME:PDT
DTSTART:20240310T100000
END:DAYLIGHT
BEGIN:STANDARD
TZOFFSETFROM:-0700
TZOFFSETTO:-0800
TZNAME:PST
DTSTART:20241103T090000
END:STANDARD
BEGIN:DAYLIGHT
TZOFFSETFROM:-0800
TZOFFSETTO:-0700
TZNAME:PDT
DTSTART:20250309T100000
END:DAYLIGHT
BEGIN:STANDARD
TZOFFSETFROM:-0700
TZOFFSETTO:-0800
TZNAME:PST
DTSTART:20251102T090000
END:STANDARD
END:VTIMEZONE
BEGIN:VEVENT
DTSTART;TZID=America/Los_Angeles:20240831T120000
DTEND;TZID=America/Los_Angeles:20240831T160000
DTSTAMP:20260421T065113
CREATED:20240806T200311Z
LAST-MODIFIED:20240806T200555Z
UID:3828-1725105600-1725120000@wetzelestate.com
SUMMARY:Paint Your Pet class at Wetzel Estate in Dallas\, OR
DESCRIPTION:Grab a friend or two and come join in on a fun painting adventure! \nImportant! \nWhen sending in your photo please use Wetzel Estate in the subject line so we know which Event the photo belongs to. Then provide us with your pets name ( not required but it helps us when we sketch them to keep them in order. \nDue to time constraints and to keep things simple we ask that you only have ONE pet per Photo. Only One will be sketched on your canvas. \nPlease submit your photos at least 24 hrs before the class \nTo: we.make.art.or@gmail.com \nHere’s what we do: \n– we provide step by step instructions to paint your furry best friend… ( or feathered ..) in a fun and easy going atmosphere. \n– we provide all Materials : Brushes\, Easel\, Paints\, Aprons\, a photo of your pet ( we’ll need one emailed to us beforehand ) and a pre-sketched 11×14 canvas. \nNO EXPERIENCE NEEDED! \nEACH TICKET IS PER PERSON \nHere’s what we need from you: \n– please provide us with a high resolution Photo of the Pet you will be painting\, close ups of the face is highly recommended. ( we reserve the right to zoom in and crop to fit the canvas\, so your sweet friend can be the star of your painting ). \nTickets are limited – if you would sit with a party please show up 15 minutes early or contact us with the name of your party. We highly recommend purchasing the ticket for a group to ensure there will be enough seating available. \nIf you cannot make it to the class and you have already purchased your ticket you can choose to get a refund or use your ticket at a different class organized by We Make Art – Create Happiness. \nIf you have any questions please feel free to contact us at the above email. \nWe look forward to meeting you soon and paint with you!
URL:https://wetzelestate.com/event/paint-your-pet-class-at-wetzel-estate-in-dallas-or-6/
ATTACH;FMTTYPE=image/jpeg:https://wetzelestate.com/wp-content/uploads/2024/03/Paint-your-pet-April.jpg
END:VEVENT
END:VCALENDAR