BEGIN:VCALENDAR
VERSION:2.0
PRODID:-//Wetzel Estate Winery - ECPv6.15.20//NONSGML v1.0//EN
CALSCALE:GREGORIAN
METHOD:PUBLISH
X-ORIGINAL-URL:https://wetzelestate.com
X-WR-CALDESC:Events for Wetzel Estate Winery
REFRESH-INTERVAL;VALUE=DURATION:PT1H
X-Robots-Tag:noindex
X-PUBLISHED-TTL:PT1H
BEGIN:VTIMEZONE
TZID:America/Los_Angeles
BEGIN:DAYLIGHT
TZOFFSETFROM:-0800
TZOFFSETTO:-0700
TZNAME:PDT
DTSTART:20250309T100000
END:DAYLIGHT
BEGIN:STANDARD
TZOFFSETFROM:-0700
TZOFFSETTO:-0800
TZNAME:PST
DTSTART:20251102T090000
END:STANDARD
BEGIN:DAYLIGHT
TZOFFSETFROM:-0800
TZOFFSETTO:-0700
TZNAME:PDT
DTSTART:20260308T100000
END:DAYLIGHT
BEGIN:STANDARD
TZOFFSETFROM:-0700
TZOFFSETTO:-0800
TZNAME:PST
DTSTART:20261101T090000
END:STANDARD
BEGIN:DAYLIGHT
TZOFFSETFROM:-0800
TZOFFSETTO:-0700
TZNAME:PDT
DTSTART:20270314T100000
END:DAYLIGHT
BEGIN:STANDARD
TZOFFSETFROM:-0700
TZOFFSETTO:-0800
TZNAME:PST
DTSTART:20271107T090000
END:STANDARD
END:VTIMEZONE
BEGIN:VEVENT
DTSTART;TZID=America/Los_Angeles:20260516T140000
DTEND;TZID=America/Los_Angeles:20260516T180000
DTSTAMP:20260421T182744
CREATED:20260408T230206Z
LAST-MODIFIED:20260408T230206Z
UID:4705-1778940000-1778954400@wetzelestate.com
SUMMARY:Visit Our Booth at CorkVallis Wine Walk!
DESCRIPTION:🍷 Sip\, Stroll & Celebrate with Us! \nWe’re excited to be pouring at CorkVallis on Saturday\, May 16th\, from 2 pm-6 pm —and you can find Wetzel Estate hosted by Golden Crane ✨ \nStop by to enjoy a curated selection of our wines while exploring downtown’s premier wine walk experience featuring the region’s best wineries. \n🍇 Great wine\, great company\, and a beautiful day awaits! \n🎟 Tickets are officially live—grab yours now! \nEarly Sip – General Admission ($25) Available online until May 15th \nVIP Admission ($45) Limited quantities available \nClick to purchase tickets now https://downtown-corvallis.org
URL:https://wetzelestate.com/event/visit-our-booth-at-corkvallis-wine-walk/
ATTACH;FMTTYPE=image/png:https://wetzelestate.com/wp-content/uploads/2026/04/CorkVallis2026.png
END:VEVENT
BEGIN:VEVENT
DTSTART;VALUE=DATE:20260620
DTEND;VALUE=DATE:20260621
DTSTAMP:20260421T182744
CREATED:20260421T223820Z
LAST-MODIFIED:20260422T003738Z
UID:4737-1781913600-1781999999@wetzelestate.com
SUMMARY:FATHER’S DAY WEEKEND CELEBRATION at Wetzel Estate!
DESCRIPTION:🎉🍷 FATHER’S DAY WEEKEND CELEBRATION at Wetzel Estate 🍷🎉 \nMark your calendars for Saturday\, June 20\, 2026 and bring Dad out for an unforgettable afternoon! \nTasting Room Open 10 am-5 pm! \n🎷 LIVE MUSIC featuring Smooth Sax with Bill Axe | 2–4 PM\n🌿 Relax on our beautiful patio (weather permitting)\n🍷 Award-winning wines flowing + summer vibes all around \n✨ Great music\, great wine\, and a perfect way to celebrate Dad in style!\nGrab your family and join us for an afternoon full of good energy\, laughter\, and memories at Wetzel Estate! \nCheers to Dad! 🥂
URL:https://wetzelestate.com/event/fathers-day-weekend-celebration-at-wetzel-estate/
ATTACH;FMTTYPE=image/png:https://wetzelestate.com/wp-content/uploads/2026/04/ChatGPT-Image-Apr-21-2026-05_33_53-PM.png
END:VEVENT
END:VCALENDAR