BEGIN:VCALENDAR
VERSION:2.0
PRODID:-//Wetzel Estate Winery - ECPv6.15.20//NONSGML v1.0//EN
CALSCALE:GREGORIAN
METHOD:PUBLISH
X-ORIGINAL-URL:https://wetzelestate.com
X-WR-CALDESC:Events for Wetzel Estate Winery
REFRESH-INTERVAL;VALUE=DURATION:PT1H
X-Robots-Tag:noindex
X-PUBLISHED-TTL:PT1H
BEGIN:VTIMEZONE
TZID:America/Los_Angeles
BEGIN:DAYLIGHT
TZOFFSETFROM:-0800
TZOFFSETTO:-0700
TZNAME:PDT
DTSTART:20230312T100000
END:DAYLIGHT
BEGIN:STANDARD
TZOFFSETFROM:-0700
TZOFFSETTO:-0800
TZNAME:PST
DTSTART:20231105T090000
END:STANDARD
BEGIN:DAYLIGHT
TZOFFSETFROM:-0800
TZOFFSETTO:-0700
TZNAME:PDT
DTSTART:20240310T100000
END:DAYLIGHT
BEGIN:STANDARD
TZOFFSETFROM:-0700
TZOFFSETTO:-0800
TZNAME:PST
DTSTART:20241103T090000
END:STANDARD
BEGIN:DAYLIGHT
TZOFFSETFROM:-0800
TZOFFSETTO:-0700
TZNAME:PDT
DTSTART:20250309T100000
END:DAYLIGHT
BEGIN:STANDARD
TZOFFSETFROM:-0700
TZOFFSETTO:-0800
TZNAME:PST
DTSTART:20251102T090000
END:STANDARD
END:VTIMEZONE
BEGIN:VEVENT
DTSTART;TZID=America/Los_Angeles:20241012T120000
DTEND;TZID=America/Los_Angeles:20241012T170000
DTSTAMP:20260421T053356
CREATED:20240920T235802Z
LAST-MODIFIED:20241008T222133Z
UID:3871-1728734400-1728752400@wetzelestate.com
SUMMARY:Federweisser Festival 2024
DESCRIPTION:Celebrate harvest with us! \nFederweisser Festival is a German harvest celebration on October 12 from 12-5 p.m. at the winery. \nFederweisser is a young\, partially fermented wine made from some of the first harvested grapes of the season; it is sweet and sometimes fizzy. \nWe will have lawn games and live music from 1-4pm on the patio.  \nWe will also have authentic German cuisine and Federweisser available to purchase. \nThe Federweisser Festival is a fun event for the entire family! \nEntry to the Federweisser Festival is FREE! \nWe will have Federweisser to purchase and take home. $20 a bottle. 
URL:https://wetzelestate.com/event/federweisser-festival-2024/
ATTACH;FMTTYPE=image/png:https://wetzelestate.com/wp-content/uploads/2024/09/Federweisser-2024-final-flyer.png
END:VEVENT
END:VCALENDAR