BEGIN:VCALENDAR
VERSION:2.0
PRODID:-//Wetzel Estate Winery - ECPv6.15.20//NONSGML v1.0//EN
CALSCALE:GREGORIAN
METHOD:PUBLISH
X-WR-CALNAME:Wetzel Estate Winery
X-ORIGINAL-URL:https://wetzelestate.com
X-WR-CALDESC:Events for Wetzel Estate Winery
REFRESH-INTERVAL;VALUE=DURATION:PT1H
X-Robots-Tag:noindex
X-PUBLISHED-TTL:PT1H
BEGIN:VTIMEZONE
TZID:America/Los_Angeles
BEGIN:DAYLIGHT
TZOFFSETFROM:-0800
TZOFFSETTO:-0700
TZNAME:PDT
DTSTART:20230312T100000
END:DAYLIGHT
BEGIN:STANDARD
TZOFFSETFROM:-0700
TZOFFSETTO:-0800
TZNAME:PST
DTSTART:20231105T090000
END:STANDARD
BEGIN:DAYLIGHT
TZOFFSETFROM:-0800
TZOFFSETTO:-0700
TZNAME:PDT
DTSTART:20240310T100000
END:DAYLIGHT
BEGIN:STANDARD
TZOFFSETFROM:-0700
TZOFFSETTO:-0800
TZNAME:PST
DTSTART:20241103T090000
END:STANDARD
BEGIN:DAYLIGHT
TZOFFSETFROM:-0800
TZOFFSETTO:-0700
TZNAME:PDT
DTSTART:20250309T100000
END:DAYLIGHT
BEGIN:STANDARD
TZOFFSETFROM:-0700
TZOFFSETTO:-0800
TZNAME:PST
DTSTART:20251102T090000
END:STANDARD
END:VTIMEZONE
BEGIN:VEVENT
DTSTART;TZID=America/Los_Angeles:20240727T120000
DTEND;TZID=America/Los_Angeles:20240727T140000
DTSTAMP:20260421T094008
CREATED:20240709T231518Z
LAST-MODIFIED:20240709T231518Z
UID:3818-1722081600-1722088800@wetzelestate.com
SUMMARY:Paint & Sip Painter’s Choice at Wetzel Estate Winery with Artistic Chaos
DESCRIPTION:Welcome to Paint & Sip Painter’s Choice Light House or Hummingbird at Wetzel Estate Winery with Artistic Chaos! Join us for a fun-filled afternoon of painting and sipping on a complimentary glass of wine at the beautiful Wetzel Estate. \nThere is wonderful food to pair with the amazing wine! Let your creativity flow as you choose to paint a stunning lighthouse or a vibrant hummingbird. No experience is necessary\, as Debbie from Artistic Chaos will guide you every step of the way. \nGrab a friend\, unleash your inner artist\, and create a masterpiece to take home with you. Don’t miss out on this unique and relaxing experience! Always\nFun At not fine Art!
URL:https://wetzelestate.com/event/paint-sip-painters-choice-at-wetzel-estate-winery-with-artistic-chaos/
ATTACH;FMTTYPE=image/jpeg:https://wetzelestate.com/wp-content/uploads/2024/07/Debb-July-27.jpg
END:VEVENT
END:VCALENDAR