BEGIN:VCALENDAR
VERSION:2.0
PRODID:-//Wetzel Estate Winery - ECPv6.15.20//NONSGML v1.0//EN
CALSCALE:GREGORIAN
METHOD:PUBLISH
X-ORIGINAL-URL:https://wetzelestate.com
X-WR-CALDESC:Events for Wetzel Estate Winery
REFRESH-INTERVAL;VALUE=DURATION:PT1H
X-Robots-Tag:noindex
X-PUBLISHED-TTL:PT1H
BEGIN:VTIMEZONE
TZID:America/Los_Angeles
BEGIN:DAYLIGHT
TZOFFSETFROM:-0800
TZOFFSETTO:-0700
TZNAME:PDT
DTSTART:20230312T100000
END:DAYLIGHT
BEGIN:STANDARD
TZOFFSETFROM:-0700
TZOFFSETTO:-0800
TZNAME:PST
DTSTART:20231105T090000
END:STANDARD
BEGIN:DAYLIGHT
TZOFFSETFROM:-0800
TZOFFSETTO:-0700
TZNAME:PDT
DTSTART:20240310T100000
END:DAYLIGHT
BEGIN:STANDARD
TZOFFSETFROM:-0700
TZOFFSETTO:-0800
TZNAME:PST
DTSTART:20241103T090000
END:STANDARD
BEGIN:DAYLIGHT
TZOFFSETFROM:-0800
TZOFFSETTO:-0700
TZNAME:PDT
DTSTART:20250309T100000
END:DAYLIGHT
BEGIN:STANDARD
TZOFFSETFROM:-0700
TZOFFSETTO:-0800
TZNAME:PST
DTSTART:20251102T090000
END:STANDARD
END:VTIMEZONE
BEGIN:VEVENT
DTSTART;TZID=America/Los_Angeles:20240210T130000
DTEND;TZID=America/Los_Angeles:20240210T140000
DTSTAMP:20260424T072507
CREATED:20240118T193507Z
LAST-MODIFIED:20240201T184356Z
UID:3632-1707570000-1707573600@wetzelestate.com
SUMMARY:Cheese and Chocolate Pairing - February 10th\, 2024 1PM - Wetzel Estate
DESCRIPTION:Embark on a delightful journey of flavors and aromas with a Cheese and Chocolate Pairing Class at Wetzel Estate 17485 OR-22 Dallas\, OR 97338\, February 10th\, 2024 1PM.  \nGuided by Desirea Fields\, from Grazing Fields Charcuterie\, participants will explore the art of pairing different types of cheeses and chocolates with suggested wine pairings.  \nDuring the 60 minute class\, you will learn about the nuances of flavor\, aroma\, and texture\, gaining insights into the principles of pairing that elevate the tasting experience. The class will touch on the science behind creating harmonious combinations\, providing you with valuable knowledge to impress your guests at your next gathering. \nWhether you are a seasoned artisan cheese enthusiast or a novice looking to expand your palate\, our Cheese and Chocolate Pairing Class is a perfect blend of education and indulgence. Join us for an unforgettable experience that celebrates the artistry of flavor and the joy of discovering new and extraordinary combinations. \nThis class ticket is for one participant. Includes 4 selected cheese and chocolate offerings. Includes a cheese tasting journal. Wine and other beverage offerings are not included in this ticketed price.
URL:https://wetzelestate.com/event/cheese-and-chocolate-pairing-february-10th-2024-1pm-wetzel-estate/
ATTACH;FMTTYPE=image/jpeg:https://wetzelestate.com/wp-content/uploads/2024/01/Cheese-and-chocolate-pairing-pic.jpg
END:VEVENT
END:VCALENDAR